BEGIN:VCALENDAR
VERSION:2.0
PRODID:-//UT Social Work - ECPv6.15.13.1//NONSGML v1.0//EN
CALSCALE:GREGORIAN
METHOD:PUBLISH
X-ORIGINAL-URL:https://socialwork.utexas.edu
X-WR-CALDESC:Events for UT Social Work
REFRESH-INTERVAL;VALUE=DURATION:PT1H
X-Robots-Tag:noindex
X-PUBLISHED-TTL:PT1H
BEGIN:VTIMEZONE
TZID:America/Chicago
BEGIN:DAYLIGHT
TZOFFSETFROM:-0600
TZOFFSETTO:-0500
TZNAME:CDT
DTSTART:20250309T080000
END:DAYLIGHT
BEGIN:STANDARD
TZOFFSETFROM:-0500
TZOFFSETTO:-0600
TZNAME:CST
DTSTART:20251102T070000
END:STANDARD
BEGIN:DAYLIGHT
TZOFFSETFROM:-0600
TZOFFSETTO:-0500
TZNAME:CDT
DTSTART:20260308T080000
END:DAYLIGHT
BEGIN:STANDARD
TZOFFSETFROM:-0500
TZOFFSETTO:-0600
TZNAME:CST
DTSTART:20261101T070000
END:STANDARD
BEGIN:DAYLIGHT
TZOFFSETFROM:-0600
TZOFFSETTO:-0500
TZNAME:CDT
DTSTART:20270314T080000
END:DAYLIGHT
BEGIN:STANDARD
TZOFFSETFROM:-0500
TZOFFSETTO:-0600
TZNAME:CST
DTSTART:20271107T070000
END:STANDARD
END:VTIMEZONE
BEGIN:VEVENT
DTSTART;TZID=America/Chicago:20260427T140000
DTEND;TZID=America/Chicago:20260427T153000
DTSTAMP:20260424T212325
CREATED:20260420T220502Z
LAST-MODIFIED:20260420T220505Z
UID:10000347-1777298400-1777303800@socialwork.utexas.edu
SUMMARY:Invited Speaker: Mritunjay Tiwari (presented by the Health Research-Practice Collab and Office of Health Affairs)
DESCRIPTION:Join the Health Research-Practice Collab and the Office of Health Affairs for a conversation with Mritunjay Tiwari\, Co-founder and CEO of Akhand Jyoti Eye Hospital. \n\n\n\nHe will share his personal journey\, insights from his work on the ground in Bihar\, India\, and how compassionate leadership can drive meaningful change at scale.
URL:https://socialwork.utexas.edu/event/invited-speaker-mritunjay-tiwari-presented-by-the-health-research-practice-collab-and-office-of-health-affairs/
LOCATION:Walter Webb Hall 2nd Floor\, 405 W 25TH ST\, Ausitn
END:VEVENT
BEGIN:VEVENT
DTSTART;TZID=America/Chicago:20260429T163000
DTEND;TZID=America/Chicago:20260429T183000
DTSTAMP:20260424T212325
CREATED:20260420T220914Z
LAST-MODIFIED:20260420T220916Z
UID:10000349-1777480200-1777487400@socialwork.utexas.edu
SUMMARY:Moritz Center Concert & Community with Ruby Dice
DESCRIPTION:Join the Moritz Center for Societal Impact at the iconic Hole in the Wall for an evening of live music with the incredibly talented Ruby Dice and her full band. Start the night with two-step lesson set to live music during the first 30 minutes! 
URL:https://socialwork.utexas.edu/event/moritz-center-concert-community-with-ruby-dice/
END:VEVENT
BEGIN:VEVENT
DTSTART;TZID=America/Chicago:20260509T153000
DTEND;TZID=America/Chicago:20260509T170000
DTSTAMP:20260424T212325
CREATED:20260420T221851Z
LAST-MODIFIED:20260420T221854Z
UID:10000351-1778340600-1778346000@socialwork.utexas.edu
SUMMARY:UT Social Work Commencement
DESCRIPTION:
URL:https://socialwork.utexas.edu/event/ut-social-work-commencement/
LOCATION:Bass Concert Hall\, 2350 Robert Dedman Drive\, Austin\, TX\, 78712\, United States
GEO:30.2861582;-97.7312385
X-APPLE-STRUCTURED-LOCATION;VALUE=URI;X-ADDRESS=Bass Concert Hall 2350 Robert Dedman Drive Austin TX 78712 United States;X-APPLE-RADIUS=500;X-TITLE=2350 Robert Dedman Drive:geo:-97.7312385,30.2861582
END:VEVENT
BEGIN:VEVENT
DTSTART;TZID=America/Chicago:20260525T000000
DTEND;TZID=America/Chicago:20260525T235959
DTSTAMP:20260424T212325
CREATED:20250731T152212Z
LAST-MODIFIED:20250731T152353Z
UID:10000262-1779667200-1779753599@socialwork.utexas.edu
SUMMARY:Memorial Day  - University Closed
DESCRIPTION:
URL:https://socialwork.utexas.edu/event/memorial-day-university-closed-2/
END:VEVENT
BEGIN:VEVENT
DTSTART;TZID=America/Chicago:20260531T000000
DTEND;TZID=America/Chicago:20260531T235959
DTSTAMP:20260424T212325
CREATED:20250627T192705Z
LAST-MODIFIED:20250627T192706Z
UID:10000295-1780185600-1780271999@socialwork.utexas.edu
SUMMARY:Mental Health Records Convening (IMLS)
DESCRIPTION:
URL:https://socialwork.utexas.edu/event/mental-health-records-convening-imls/
END:VEVENT
BEGIN:VEVENT
DTSTART;TZID=America/Chicago:20260619T000000
DTEND;TZID=America/Chicago:20260619T235959
DTSTAMP:20260424T212325
CREATED:20250731T152146Z
LAST-MODIFIED:20250731T152403Z
UID:10000260-1781827200-1781913599@socialwork.utexas.edu
SUMMARY:Emancipation Day - University Closed
DESCRIPTION:
URL:https://socialwork.utexas.edu/event/emancipation-day-university-closed-2/
END:VEVENT
END:VCALENDAR