BEGIN:VCALENDAR
VERSION:2.0
PRODID:-//UT Social Work - ECPv6.15.13.1//NONSGML v1.0//EN
CALSCALE:GREGORIAN
METHOD:PUBLISH
X-WR-CALNAME:UT Social Work
X-ORIGINAL-URL:https://socialwork.utexas.edu
X-WR-CALDESC:Events for UT Social Work
REFRESH-INTERVAL;VALUE=DURATION:PT1H
X-Robots-Tag:noindex
X-PUBLISHED-TTL:PT1H
BEGIN:VTIMEZONE
TZID:America/Chicago
BEGIN:DAYLIGHT
TZOFFSETFROM:-0600
TZOFFSETTO:-0500
TZNAME:CDT
DTSTART:20250309T080000
END:DAYLIGHT
BEGIN:STANDARD
TZOFFSETFROM:-0500
TZOFFSETTO:-0600
TZNAME:CST
DTSTART:20251102T070000
END:STANDARD
BEGIN:DAYLIGHT
TZOFFSETFROM:-0600
TZOFFSETTO:-0500
TZNAME:CDT
DTSTART:20260308T080000
END:DAYLIGHT
BEGIN:STANDARD
TZOFFSETFROM:-0500
TZOFFSETTO:-0600
TZNAME:CST
DTSTART:20261101T070000
END:STANDARD
BEGIN:DAYLIGHT
TZOFFSETFROM:-0600
TZOFFSETTO:-0500
TZNAME:CDT
DTSTART:20270314T080000
END:DAYLIGHT
BEGIN:STANDARD
TZOFFSETFROM:-0500
TZOFFSETTO:-0600
TZNAME:CST
DTSTART:20271107T070000
END:STANDARD
END:VTIMEZONE
BEGIN:VEVENT
DTSTART;TZID=America/Chicago:20260423T110000
DTEND;TZID=America/Chicago:20260423T140000
DTSTAMP:20260420T165732
CREATED:20260420T215607Z
LAST-MODIFIED:20260420T215609Z
UID:45222-1776942000-1776952800@socialwork.utexas.edu
SUMMARY:The Spring Student Send-Off
DESCRIPTION:Students are invited to relax and be sent off from the semester in style with UT Social Work and the Social Work Council! This event will offer refreshments\, a chill environment\, live music\, and activities such as crafting and board games. Pick up some UT Social Work and Social Work Council swag\, and meet with your school faculty and leaders as you prepare for the end of the academic year!
URL:https://socialwork.utexas.edu/event/the-spring-student-send-off/
LOCATION:Walter Webb Hall 2nd Floor\, 405 W 25TH ST\, Ausitn
END:VEVENT
END:VCALENDAR