BEGIN:VCALENDAR
VERSION:2.0
PRODID:-//UT Social Work - ECPv6.15.13.1//NONSGML v1.0//EN
CALSCALE:GREGORIAN
METHOD:PUBLISH
X-WR-CALNAME:UT Social Work
X-ORIGINAL-URL:https://socialwork.utexas.edu
X-WR-CALDESC:Events for UT Social Work
REFRESH-INTERVAL;VALUE=DURATION:PT1H
X-Robots-Tag:noindex
X-PUBLISHED-TTL:PT1H
BEGIN:VTIMEZONE
TZID:America/Chicago
BEGIN:DAYLIGHT
TZOFFSETFROM:-0600
TZOFFSETTO:-0500
TZNAME:CDT
DTSTART:20250309T080000
END:DAYLIGHT
BEGIN:STANDARD
TZOFFSETFROM:-0500
TZOFFSETTO:-0600
TZNAME:CST
DTSTART:20251102T070000
END:STANDARD
BEGIN:DAYLIGHT
TZOFFSETFROM:-0600
TZOFFSETTO:-0500
TZNAME:CDT
DTSTART:20260308T080000
END:DAYLIGHT
BEGIN:STANDARD
TZOFFSETFROM:-0500
TZOFFSETTO:-0600
TZNAME:CST
DTSTART:20261101T070000
END:STANDARD
BEGIN:DAYLIGHT
TZOFFSETFROM:-0600
TZOFFSETTO:-0500
TZNAME:CDT
DTSTART:20270314T080000
END:DAYLIGHT
BEGIN:STANDARD
TZOFFSETFROM:-0500
TZOFFSETTO:-0600
TZNAME:CST
DTSTART:20271107T070000
END:STANDARD
END:VTIMEZONE
BEGIN:VEVENT
DTSTART;TZID=America/Chicago:20260427T140000
DTEND;TZID=America/Chicago:20260427T153000
DTSTAMP:20260420T170817
CREATED:20260420T220502Z
LAST-MODIFIED:20260420T220505Z
UID:45224-1777298400-1777303800@socialwork.utexas.edu
SUMMARY:Invited Speaker: Mritunjay Tiwari (presented by the Health Research-Practice Collab and Office of Health Affairs)
DESCRIPTION:Join the Health Research-Practice Collab and the Office of Health Affairs for a conversation with Mritunjay Tiwari\, Co-founder and CEO of Akhand Jyoti Eye Hospital. \n\n\n\nHe will share his personal journey\, insights from his work on the ground in Bihar\, India\, and how compassionate leadership can drive meaningful change at scale.
URL:https://socialwork.utexas.edu/event/invited-speaker-mritunjay-tiwari-presented-by-the-health-research-practice-collab-and-office-of-health-affairs/
LOCATION:Walter Webb Hall 2nd Floor\, 405 W 25TH ST\, Ausitn
END:VEVENT
END:VCALENDAR